BEGIN:VCALENDAR
VERSION:2.0
PRODID:-//Nordic Family Office - ECPv6.15.13.1//NONSGML v1.0//EN
CALSCALE:GREGORIAN
METHOD:PUBLISH
X-WR-CALNAME:Nordic Family Office
X-ORIGINAL-URL:https://nordicfamilyoffice.no/en/
X-WR-CALDESC:Events for Nordic Family Office
REFRESH-INTERVAL;VALUE=DURATION:PT1H
X-Robots-Tag:noindex
X-PUBLISHED-TTL:PT1H
BEGIN:VTIMEZONE
TZID:Europe/Oslo
BEGIN:DAYLIGHT
TZOFFSETFROM:+0100
TZOFFSETTO:+0200
TZNAME:CEST
DTSTART:20240331T010000
END:DAYLIGHT
BEGIN:STANDARD
TZOFFSETFROM:+0200
TZOFFSETTO:+0100
TZNAME:CET
DTSTART:20241027T010000
END:STANDARD
BEGIN:DAYLIGHT
TZOFFSETFROM:+0100
TZOFFSETTO:+0200
TZNAME:CEST
DTSTART:20250330T010000
END:DAYLIGHT
BEGIN:STANDARD
TZOFFSETFROM:+0200
TZOFFSETTO:+0100
TZNAME:CET
DTSTART:20251026T010000
END:STANDARD
BEGIN:DAYLIGHT
TZOFFSETFROM:+0100
TZOFFSETTO:+0200
TZNAME:CEST
DTSTART:20260329T010000
END:DAYLIGHT
BEGIN:STANDARD
TZOFFSETFROM:+0200
TZOFFSETTO:+0100
TZNAME:CET
DTSTART:20261025T010000
END:STANDARD
BEGIN:DAYLIGHT
TZOFFSETFROM:+0100
TZOFFSETTO:+0200
TZNAME:CEST
DTSTART:20270328T010000
END:DAYLIGHT
BEGIN:STANDARD
TZOFFSETFROM:+0200
TZOFFSETTO:+0100
TZNAME:CET
DTSTART:20271031T010000
END:STANDARD
END:VTIMEZONE
BEGIN:VEVENT
DTSTART;TZID=Europe/Oslo:20251022T052400
DTEND;TZID=Europe/Oslo:20260610T052400
DTSTAMP:20260422T133834
CREATED:20250602T052417Z
LAST-MODIFIED:20251030T113423Z
UID:21078-1761110640-1781069040@nordicfamilyoffice.no
SUMMARY:Bridging Impact Living System
DESCRIPTION:Living System is our most comprehensive program—an 8-month journey for those who want to live more fully\, freely\, and with greater energy. Designed for those who are already aware of how the mind\, heart\, and instinct together give the most power and clarity. You will gain insights from psychology\, neuroscience\, and ancient principles\, along with tools that last a lifetime. The journey covers 11 key themes—from understanding your patterns\, to reigniting your inner spark\, and living from a place of inner clarity\, purpose\, and creative power. \nProgram Details 2026 \n\n🏙️ Oslo – 3 days: The beginning of the journey; understand your driving force\n💻 Digital sessions: Once a month\n🏙️ Oslo – 2 days: Strengthen your power and clarity\n🌊Tønsberg – 3 days: Bring it all together\, anchor the change\n\nYou will receive: \n\nTools and insights from various fields—always grounded in practical application\nReflections\, exercises\, and rituals for lasting change\nPeer exchange in a community with others who share the same ambition for the journey
URL:https://nordicfamilyoffice.no/en/courses/bridging-impact-living-system/
LOCATION:Sjusjøen\, Oslo\, International (Destination Coming)
CATEGORIES:Individual
ATTACH;FMTTYPE=image/jpeg:https://nordicfamilyoffice.no/wp-content/uploads/2025/06/Bridging-impact-Living-System.jpg
END:VEVENT
BEGIN:VEVENT
DTSTART;TZID=Europe/Oslo:20260206T080000
DTEND;TZID=Europe/Oslo:20261016T170000
DTSTAMP:20260422T133834
CREATED:20250602T045558Z
LAST-MODIFIED:20251022T104633Z
UID:21074-1770364800-1792170000@nordicfamilyoffice.no
SUMMARY:The NextGen Ownership Program
DESCRIPTION:Developed in collaboration between Nordic Family Office and SDA Bocconi School of Management\, the NextGen Ownership Program is designed specifically for the next generation of family business owners. Whether you’re already involved in your family business or still exploring if—and how—you want to engage\, this program provides the knowledge\, tools\, and insights to help you make informed and responsible decisions about ownership and leadership.\nThis is not a traditional course\, but a learning journey—grounded in peer dialogue\, expert perspectives\, and a deep relevance to real-world challenges. The program prepares you for your current or future role as both owner and leader. \nWho is the program for? \nThe NextGen Ownership Program is tailored for upcoming family business owners—wherever you are on your journey: \n\nYou who know you’ll take on an ownership or leadership role in your family business\nYou who are still exploring what the future may hold\nAnd you who may not work in the business\, but already have—or will take on—ownership responsibilities\n\nWhether you’re early in your career or already bringing experience to the table\, the program offers new perspectives\, a strong foundation of knowledge\, and a deeper understanding of what it means to own and contribute to a family-owned enterprise. \nProgram Structure\nPart 1 – Foundations of Family Ownership\n📍 Oslo\, Norway\nThe first part of the program focuses on the personal and strategic foundations of family ownership. Together\, we’ll explore: \n\nThe responsibilities and opportunities of owning a family business or wealth\nHow to define your direction with purpose and vision\nFamily dynamics\, values\, and identity\nPersonal behavior patterns and interpersonal relationships\n\nThis module combines in-person gatherings and digital sessions\, helping you grow both as an individual and as part of a family system. \nPart 2 – Business Understanding and Strategic Insight\n📍 Milan\, Italy – SDA Bocconi School of Management\nHeld at one of Europe’s top business schools\, the second part includes two intensive 4-day modules\, supported by online learning between sessions. With a focus on the unique realities of family businesses\, you’ll build competence in: \n\nSustainability and ESG\nLeading change and managing conflict\nCapital and risk strategies\nDeveloping people and talent\nBusiness development and innovation\n\nYou’ll also visit Italian family businesses and family offices\, hear from respected leaders\, and take part in a Deep Dive Focus Session: \n“Venturing with Your Own Family Capital” – a unique opportunity to explore entrepreneurship and venture-building grounded in your family’s capital and values. \nThis part of the program sharpens your strategic thinking\, broadens your perspective on ownership\, and prepares you for future leadership. \nProgram Details\nThe first cohort begins in June 2026 in Oslo and concludes in October 2026 in Milan. Places are limited. If you’re curious\, committed\, or simply searching for your next step\, we invite you to reach out and learn more. This is your invitation to take ownership—of your path\, your development\, and your future. \nAbout SDA Bocconi\nFounded in 1971\, SDA Bocconi School of Management is the graduate business school of Bocconi University in Milan\, Italy. The school is internationally recognized and holds the prestigious “triple crown” accreditation from AACSB\, EQUIS\, and AMBA. \n📈 Ranked #3 globally in Custom Executive Education (Financial Times\, 2025) \n🏆 Ranked #2 in Europe and #4 globally for MBA programs (Financial Times\, 2025)
URL:https://nordicfamilyoffice.no/en/courses/the-nextgen-ownership-program/
LOCATION:Oslo and Milan
CATEGORIES:Individual
ATTACH;FMTTYPE=image/jpeg:https://nordicfamilyoffice.no/wp-content/uploads/2025/05/NFO-Utvalgte-22-Custom.jpg
END:VEVENT
BEGIN:VEVENT
DTSTART;TZID=Europe/Oslo:20261023T090000
DTEND;TZID=Europe/Oslo:20261126T170000
DTSTAMP:20260422T133834
CREATED:20250602T051225Z
LAST-MODIFIED:20260303T083000Z
UID:21075-1792746000-1795712400@nordicfamilyoffice.no
SUMMARY:The Family Board Excellence Program
DESCRIPTION:A tailored and future-oriented program for board work in family businesses. \nIn family-owned and other long-term enterprises\, board work is about more than structure and formalities. It requires a deep understanding of ownership\, relationships\, generations\, and the people behind the roles.  \nTogether with the Scandinavian Executive Institute and INSEAD\, Nordic Family Office has developed The Family Board Excellence Program – a program that combines world-class international board expertise with Bridging Impact; our unique methods for connecting ownership\, human insight\, and systemic thinking. \nThe result is a complete platform for professional board work\, tailored for family businesses and rooted in Nordic values and international best practices. \nThe program combines:\n\nTwo modules led by Nordic Family Office\, focusing on family ownership\, long-term value creation\, self-insight\, and relational capacity\, based on our philosophy and program series Bridging Impact.\nA six-day international board program delivered by the Scandinavian Executive Institute and INSEAD across two modules\, one of which is held in Norway and one at the INSEAD campus in Fontainebleau.\n\nWhat does the program offer you as a participant?\n\nA holistic understanding of the complexity of family-owned businesses and how this affects the board and its work.\nBridging Impact; knowledge and tools that enhance your personal and relational capacity as a board member and owner. You will better understand your own and others’ patterns\, enabling you to connect your personal attributes and family values with the company’s strategic direction\, and strengthen the interaction within the board and between owners and the board. \nWorld-class international board expertise – a program of the highest quality that consistently receives top ratings from participants.\nA strong network of owners\, executives\, and board members with a connection to or interest in family ownership.\n\nWho is the program for?\n\nCurrent and future owners in family-owned businesses.\nBoard members seeking deeper insight into family ownership and governance.\nSenior executives responsible for interacting with owners and boards in family businesses.\n\nProgram structure – a unique learning journey\nThroughout the program\, academic insight\, personal reflection\, and systemic perspectives are combined. This makes the learning relevant both in the boardroom and within the owning family.  \n\nModule 1 (NFO\, Oslo): Board work in family businesses – roles\, dynamics\, and emotions.\nModule 2 (SEI/INSEAD\, Oslo): Board work in a Norwegian context\, with international perspectives.\nModule 3 (NFO\, Oslo): Personal insight and influence // Interaction between owners and the board\nModule 4 (SEI/INSEAD\, Fontainebleau): International specialization in value creation\, governance\, and decision-making.\n\nPractical information\n\nStart date: October 23\, 2026\nRegistration: See the right-hand column (Note: Limited spaces available)\nLanguage: Norwegian and English\nPrice & terms: Contact us for complete information regarding price\, travel\, and accommodation
URL:https://nordicfamilyoffice.no/en/courses/the-family-board-excellence-program/
LOCATION:Oslo and Fontainebleau
CATEGORIES:Individual
ATTACH;FMTTYPE=image/jpeg:https://nordicfamilyoffice.no/wp-content/uploads/2025/05/NFO-Utvalgte-13-Custom.jpg
END:VEVENT
END:VCALENDAR